BEGIN:VCALENDAR
METHOD:PUBLISH
PRODID:-//Weblication CMS
VERSION:2.0
BEGIN:VEVENT
SUMMARY:Seebrückenfest Wustrow
DTSTART:20240825T100000
DTEND:20240825T100000
DESCRIPTION:Kunsthandwerkermarkt "auch zum Mitmachen", Tag der offenen Tür bei der DGzRS an der Seenotstation, Schauübung der DGzRS auf der Ostsee, Bühnenprogramm für Groß und Klein 
LOCATION:
UID:https://www.fischland-darss-zingst.net/fdz/veranstaltungen/termine/traditionelle-events/seebrueckenfest-wustrow.php?uid=327d4ac0538619fc6c3f1f38ce0854fc
URL:https://www.fischland-darss-zingst.net/fdz/veranstaltungen/termine/traditionelle-events/seebrueckenfest-wustrow.php
END:VEVENT
END:VCALENDAR