BEGIN:VCALENDAR
METHOD:PUBLISH
PRODID:-//Weblication CMS
VERSION:2.0
BEGIN:VEVENT
SUMMARY:15. Darßer Bernsteinwoche 
DTSTART:20230211T200000
DTEND:20230211T200000
DESCRIPTION:
LOCATION:
UID:https://www.fischland-darss-zingst.net/fdz/veranstaltungen/termine/traditionelle-events/darsser-bernsteinwoche.php?uid=1faae2654cac74b3809933c7048bd303
URL:https://www.fischland-darss-zingst.net/fdz/veranstaltungen/termine/traditionelle-events/darsser-bernsteinwoche.php
END:VEVENT
END:VCALENDAR