BEGIN:VCALENDAR
METHOD:PUBLISH
PRODID:-//Weblication CMS
VERSION:2.0
BEGIN:VEVENT
SUMMARY:Winter-Atelier
DTSTART:20250205T100000
DTEND:20250205T150000
DESCRIPTION:Winter-Atelier heißt kreatives Gestalten mit Farbe, Papier, Naturmaterialien, Sand auf Papier, Pappe, Leinen und Holz. Das Ergebnis können Wintergrußkarten, Lesezeichen, Winterbilder und vieles mehr sein. Der winterlichen Kreativität sind keine Grenzen gesetzt.
LOCATION:
UID:https://www.fischland-darss-zingst.net/fdz/veranstaltungen/termine/aktuell/winter-atelier-1.php?uid=4719395742fce7a853b79471293c030b
URL:https://www.fischland-darss-zingst.net/fdz/veranstaltungen/termine/aktuell/winter-atelier-1.php
END:VEVENT
BEGIN:VEVENT
SUMMARY:Winter-Atelier
DTSTART:20250207T100000
DTEND:20250207T150000
DESCRIPTION:Winter-Atelier heißt kreatives Gestalten mit Farbe, Papier, Naturmaterialien, Sand auf Papier, Pappe, Leinen und Holz. Das Ergebnis können Wintergrußkarten, Lesezeichen, Winterbilder und vieles mehr sein. Der winterlichen Kreativität sind keine Grenzen gesetzt.
LOCATION:
UID:https://www.fischland-darss-zingst.net/fdz/veranstaltungen/termine/aktuell/winter-atelier-1.php?uid=780559e22d3e0e133d96823c34c5e3b2
URL:https://www.fischland-darss-zingst.net/fdz/veranstaltungen/termine/aktuell/winter-atelier-1.php
END:VEVENT
BEGIN:VEVENT
SUMMARY:Winter-Atelier
DTSTART:20250212T100000
DTEND:20250212T150000
DESCRIPTION:Winter-Atelier heißt kreatives Gestalten mit Farbe, Papier, Naturmaterialien, Sand auf Papier, Pappe, Leinen und Holz. Das Ergebnis können Wintergrußkarten, Lesezeichen, Winterbilder und vieles mehr sein. Der winterlichen Kreativität sind keine Grenzen gesetzt.
LOCATION:
UID:https://www.fischland-darss-zingst.net/fdz/veranstaltungen/termine/aktuell/winter-atelier-1.php?uid=b06f5e0b63b3016ea25ae392e31bf3bc
URL:https://www.fischland-darss-zingst.net/fdz/veranstaltungen/termine/aktuell/winter-atelier-1.php
END:VEVENT
BEGIN:VEVENT
SUMMARY:Winter-Atelier
DTSTART:20250214T100000
DTEND:20250214T150000
DESCRIPTION:Winter-Atelier heißt kreatives Gestalten mit Farbe, Papier, Naturmaterialien, Sand auf Papier, Pappe, Leinen und Holz. Das Ergebnis können Wintergrußkarten, Lesezeichen, Winterbilder und vieles mehr sein. Der winterlichen Kreativität sind keine Grenzen gesetzt.
LOCATION:
UID:https://www.fischland-darss-zingst.net/fdz/veranstaltungen/termine/aktuell/winter-atelier-1.php?uid=b9f48bfbc59064c8967bccb1d4a69c5f
URL:https://www.fischland-darss-zingst.net/fdz/veranstaltungen/termine/aktuell/winter-atelier-1.php
END:VEVENT
BEGIN:VEVENT
SUMMARY:Winter-Atelier
DTSTART:20250219T100000
DTEND:20250219T150000
DESCRIPTION:Winter-Atelier heißt kreatives Gestalten mit Farbe, Papier, Naturmaterialien, Sand auf Papier, Pappe, Leinen und Holz. Das Ergebnis können Wintergrußkarten, Lesezeichen, Winterbilder und vieles mehr sein. Der winterlichen Kreativität sind keine Grenzen gesetzt.
LOCATION:
UID:https://www.fischland-darss-zingst.net/fdz/veranstaltungen/termine/aktuell/winter-atelier-1.php?uid=c639e237309f7fc8086fd3605e6b16f2
URL:https://www.fischland-darss-zingst.net/fdz/veranstaltungen/termine/aktuell/winter-atelier-1.php
END:VEVENT
BEGIN:VEVENT
SUMMARY:Winter-Atelier
DTSTART:20250226T100000
DTEND:20250226T160000
DESCRIPTION:Winter-Atelier heißt kreatives Gestalten mit Farbe, Papier, Naturmaterialien, Sand auf Papier, Pappe, Leinen und Holz. Das Ergebnis können Wintergrußkarten, Lesezeichen, Winterbilder und vieles mehr sein. Der winterlichen Kreativität sind keine Grenzen gesetzt.
LOCATION:
UID:https://www.fischland-darss-zingst.net/fdz/veranstaltungen/termine/aktuell/winter-atelier-1.php?uid=9e902a529590808aeea5242146880338
URL:https://www.fischland-darss-zingst.net/fdz/veranstaltungen/termine/aktuell/winter-atelier-1.php
END:VEVENT
BEGIN:VEVENT
SUMMARY:Winter-Atelier
DTSTART:20250301T100000
DTEND:20250301T160000
DESCRIPTION:Winter-Atelier heißt kreatives Gestalten mit Farbe, Papier, Naturmaterialien, Sand auf Papier, Pappe, Leinen und Holz. Das Ergebnis können Wintergrußkarten, Lesezeichen, Winterbilder und vieles mehr sein. Der winterlichen Kreativität sind keine Grenzen gesetzt.
LOCATION:
UID:https://www.fischland-darss-zingst.net/fdz/veranstaltungen/termine/aktuell/winter-atelier-1.php?uid=551ac60c72319313c4e2fd09080891fb
URL:https://www.fischland-darss-zingst.net/fdz/veranstaltungen/termine/aktuell/winter-atelier-1.php
END:VEVENT
BEGIN:VEVENT
SUMMARY:Winter-Atelier
DTSTART:20250208T100000
DTEND:20250208T150000
DESCRIPTION:Winter-Atelier heißt kreatives Gestalten mit Farbe, Papier, Naturmaterialien, Sand auf Papier, Pappe, Leinen und Holz. Das Ergebnis können Wintergrußkarten, Lesezeichen, Winterbilder und vieles mehr sein. Der winterlichen Kreativität sind keine Grenzen gesetzt.
LOCATION:
UID:https://www.fischland-darss-zingst.net/fdz/veranstaltungen/termine/aktuell/winter-atelier-1.php?uid=46410b3cf426ab2aa7f7164ad88bc01c
URL:https://www.fischland-darss-zingst.net/fdz/veranstaltungen/termine/aktuell/winter-atelier-1.php
END:VEVENT
BEGIN:VEVENT
SUMMARY:Winter-Atelier
DTSTART:20250209T100000
DTEND:20250209T150000
DESCRIPTION:Winter-Atelier heißt kreatives Gestalten mit Farbe, Papier, Naturmaterialien, Sand auf Papier, Pappe, Leinen und Holz. Das Ergebnis können Wintergrußkarten, Lesezeichen, Winterbilder und vieles mehr sein. Der winterlichen Kreativität sind keine Grenzen gesetzt.
LOCATION:
UID:https://www.fischland-darss-zingst.net/fdz/veranstaltungen/termine/aktuell/winter-atelier-1.php?uid=a45401eba851f023f4b8ea36efff0790
URL:https://www.fischland-darss-zingst.net/fdz/veranstaltungen/termine/aktuell/winter-atelier-1.php
END:VEVENT
BEGIN:VEVENT
SUMMARY:Winter-Atelier
DTSTART:20250210T100000
DTEND:20250210T150000
DESCRIPTION:Winter-Atelier heißt kreatives Gestalten mit Farbe, Papier, Naturmaterialien, Sand auf Papier, Pappe, Leinen und Holz. Das Ergebnis können Wintergrußkarten, Lesezeichen, Winterbilder und vieles mehr sein. Der winterlichen Kreativität sind keine Grenzen gesetzt.
LOCATION:
UID:https://www.fischland-darss-zingst.net/fdz/veranstaltungen/termine/aktuell/winter-atelier-1.php?uid=53c85be2e512cd4047363e14d1b84afc
URL:https://www.fischland-darss-zingst.net/fdz/veranstaltungen/termine/aktuell/winter-atelier-1.php
END:VEVENT
BEGIN:VEVENT
SUMMARY:Winter-Atelier
DTSTART:20250213T100000
DTEND:20250213T150000
DESCRIPTION:Winter-Atelier heißt kreatives Gestalten mit Farbe, Papier, Naturmaterialien, Sand auf Papier, Pappe, Leinen und Holz. Das Ergebnis können Wintergrußkarten, Lesezeichen, Winterbilder und vieles mehr sein. Der winterlichen Kreativität sind keine Grenzen gesetzt.
LOCATION:
UID:https://www.fischland-darss-zingst.net/fdz/veranstaltungen/termine/aktuell/winter-atelier-1.php?uid=e34ee4595c416b07d6aeffc260513e4c
URL:https://www.fischland-darss-zingst.net/fdz/veranstaltungen/termine/aktuell/winter-atelier-1.php
END:VEVENT
BEGIN:VEVENT
SUMMARY:Winter-Atelier
DTSTART:20250214T100000
DTEND:20250214T150000
DESCRIPTION:Winter-Atelier heißt kreatives Gestalten mit Farbe, Papier, Naturmaterialien, Sand auf Papier, Pappe, Leinen und Holz. Das Ergebnis können Wintergrußkarten, Lesezeichen, Winterbilder und vieles mehr sein. Der winterlichen Kreativität sind keine Grenzen gesetzt.
LOCATION:
UID:https://www.fischland-darss-zingst.net/fdz/veranstaltungen/termine/aktuell/winter-atelier-1.php?uid=b9f48bfbc59064c8967bccb1d4a69c5f
URL:https://www.fischland-darss-zingst.net/fdz/veranstaltungen/termine/aktuell/winter-atelier-1.php
END:VEVENT
BEGIN:VEVENT
SUMMARY:Winter-Atelier
DTSTART:20250215T100000
DTEND:20250215T150000
DESCRIPTION:Winter-Atelier heißt kreatives Gestalten mit Farbe, Papier, Naturmaterialien, Sand auf Papier, Pappe, Leinen und Holz. Das Ergebnis können Wintergrußkarten, Lesezeichen, Winterbilder und vieles mehr sein. Der winterlichen Kreativität sind keine Grenzen gesetzt.
LOCATION:
UID:https://www.fischland-darss-zingst.net/fdz/veranstaltungen/termine/aktuell/winter-atelier-1.php?uid=9dc24cd3d68ef0eb83e041cb9584dc63
URL:https://www.fischland-darss-zingst.net/fdz/veranstaltungen/termine/aktuell/winter-atelier-1.php
END:VEVENT
BEGIN:VEVENT
SUMMARY:Winter-Atelier
DTSTART:20250216T100000
DTEND:20250216T150000
DESCRIPTION:Winter-Atelier heißt kreatives Gestalten mit Farbe, Papier, Naturmaterialien, Sand auf Papier, Pappe, Leinen und Holz. Das Ergebnis können Wintergrußkarten, Lesezeichen, Winterbilder und vieles mehr sein. Der winterlichen Kreativität sind keine Grenzen gesetzt.
LOCATION:
UID:https://www.fischland-darss-zingst.net/fdz/veranstaltungen/termine/aktuell/winter-atelier-1.php?uid=55987ee7f922a48d78f73d1938300286
URL:https://www.fischland-darss-zingst.net/fdz/veranstaltungen/termine/aktuell/winter-atelier-1.php
END:VEVENT
BEGIN:VEVENT
SUMMARY:Winter-Atelier
DTSTART:20250217T100000
DTEND:20250217T150000
DESCRIPTION:Winter-Atelier heißt kreatives Gestalten mit Farbe, Papier, Naturmaterialien, Sand auf Papier, Pappe, Leinen und Holz. Das Ergebnis können Wintergrußkarten, Lesezeichen, Winterbilder und vieles mehr sein. Der winterlichen Kreativität sind keine Grenzen gesetzt.
LOCATION:
UID:https://www.fischland-darss-zingst.net/fdz/veranstaltungen/termine/aktuell/winter-atelier-1.php?uid=997fcfdef47bb0b0c564eb26096a0800
URL:https://www.fischland-darss-zingst.net/fdz/veranstaltungen/termine/aktuell/winter-atelier-1.php
END:VEVENT
BEGIN:VEVENT
SUMMARY:Winter-Atelier
DTSTART:20250220T100000
DTEND:20250220T150000
DESCRIPTION:Winter-Atelier heißt kreatives Gestalten mit Farbe, Papier, Naturmaterialien, Sand auf Papier, Pappe, Leinen und Holz. Das Ergebnis können Wintergrußkarten, Lesezeichen, Winterbilder und vieles mehr sein. Der winterlichen Kreativität sind keine Grenzen gesetzt.
LOCATION:
UID:https://www.fischland-darss-zingst.net/fdz/veranstaltungen/termine/aktuell/winter-atelier-1.php?uid=0bb61fadad12807c2bd774c83c12e4ff
URL:https://www.fischland-darss-zingst.net/fdz/veranstaltungen/termine/aktuell/winter-atelier-1.php
END:VEVENT
BEGIN:VEVENT
SUMMARY:Winter-Atelier
DTSTART:20250221T100000
DTEND:20250221T150000
DESCRIPTION:Winter-Atelier heißt kreatives Gestalten mit Farbe, Papier, Naturmaterialien, Sand auf Papier, Pappe, Leinen und Holz. Das Ergebnis können Wintergrußkarten, Lesezeichen, Winterbilder und vieles mehr sein. Der winterlichen Kreativität sind keine Grenzen gesetzt.
LOCATION:
UID:https://www.fischland-darss-zingst.net/fdz/veranstaltungen/termine/aktuell/winter-atelier-1.php?uid=c5cfa94c1e88c40e83196c2711c6f824
URL:https://www.fischland-darss-zingst.net/fdz/veranstaltungen/termine/aktuell/winter-atelier-1.php
END:VEVENT
BEGIN:VEVENT
SUMMARY:Winter-Atelier
DTSTART:20250222T100000
DTEND:20250222T150000
DESCRIPTION:Winter-Atelier heißt kreatives Gestalten mit Farbe, Papier, Naturmaterialien, Sand auf Papier, Pappe, Leinen und Holz. Das Ergebnis können Wintergrußkarten, Lesezeichen, Winterbilder und vieles mehr sein. Der winterlichen Kreativität sind keine Grenzen gesetzt.
LOCATION:
UID:https://www.fischland-darss-zingst.net/fdz/veranstaltungen/termine/aktuell/winter-atelier-1.php?uid=687d12060beaacf7a4488c4c360fad11
URL:https://www.fischland-darss-zingst.net/fdz/veranstaltungen/termine/aktuell/winter-atelier-1.php
END:VEVENT
BEGIN:VEVENT
SUMMARY:Winter-Atelier
DTSTART:20250223T100000
DTEND:20250223T150000
DESCRIPTION:Winter-Atelier heißt kreatives Gestalten mit Farbe, Papier, Naturmaterialien, Sand auf Papier, Pappe, Leinen und Holz. Das Ergebnis können Wintergrußkarten, Lesezeichen, Winterbilder und vieles mehr sein. Der winterlichen Kreativität sind keine Grenzen gesetzt.
LOCATION:
UID:https://www.fischland-darss-zingst.net/fdz/veranstaltungen/termine/aktuell/winter-atelier-1.php?uid=9f3f1fa7e7bfb1c01e860f1692128925
URL:https://www.fischland-darss-zingst.net/fdz/veranstaltungen/termine/aktuell/winter-atelier-1.php
END:VEVENT
BEGIN:VEVENT
SUMMARY:Winter-Atelier
DTSTART:20250224T100000
DTEND:20250224T150000
DESCRIPTION:Winter-Atelier heißt kreatives Gestalten mit Farbe, Papier, Naturmaterialien, Sand auf Papier, Pappe, Leinen und Holz. Das Ergebnis können Wintergrußkarten, Lesezeichen, Winterbilder und vieles mehr sein. Der winterlichen Kreativität sind keine Grenzen gesetzt.
LOCATION:
UID:https://www.fischland-darss-zingst.net/fdz/veranstaltungen/termine/aktuell/winter-atelier-1.php?uid=b3fd98ad89b40114d2e4f898bd5e6bba
URL:https://www.fischland-darss-zingst.net/fdz/veranstaltungen/termine/aktuell/winter-atelier-1.php
END:VEVENT
BEGIN:VEVENT
SUMMARY:Winter-Atelier
DTSTART:20250227T100000
DTEND:20250227T160000
DESCRIPTION:Winter-Atelier heißt kreatives Gestalten mit Farbe, Papier, Naturmaterialien, Sand auf Papier, Pappe, Leinen und Holz. Das Ergebnis können Wintergrußkarten, Lesezeichen, Winterbilder und vieles mehr sein. Der winterlichen Kreativität sind keine Grenzen gesetzt.
LOCATION:
UID:https://www.fischland-darss-zingst.net/fdz/veranstaltungen/termine/aktuell/winter-atelier-1.php?uid=77a0a6118956756e1e3c003f4815b234
URL:https://www.fischland-darss-zingst.net/fdz/veranstaltungen/termine/aktuell/winter-atelier-1.php
END:VEVENT
BEGIN:VEVENT
SUMMARY:Winter-Atelier
DTSTART:20250228T100000
DTEND:20250228T160000
DESCRIPTION:Winter-Atelier heißt kreatives Gestalten mit Farbe, Papier, Naturmaterialien, Sand auf Papier, Pappe, Leinen und Holz. Das Ergebnis können Wintergrußkarten, Lesezeichen, Winterbilder und vieles mehr sein. Der winterlichen Kreativität sind keine Grenzen gesetzt.
LOCATION:
UID:https://www.fischland-darss-zingst.net/fdz/veranstaltungen/termine/aktuell/winter-atelier-1.php?uid=b38f1b8605baebee8ca1ae5a892e7bd4
URL:https://www.fischland-darss-zingst.net/fdz/veranstaltungen/termine/aktuell/winter-atelier-1.php
END:VEVENT
BEGIN:VEVENT
SUMMARY:Winter-Atelier
DTSTART:20250302T100000
DTEND:20250302T160000
DESCRIPTION:Winter-Atelier heißt kreatives Gestalten mit Farbe, Papier, Naturmaterialien, Sand auf Papier, Pappe, Leinen und Holz. Das Ergebnis können Wintergrußkarten, Lesezeichen, Winterbilder und vieles mehr sein. Der winterlichen Kreativität sind keine Grenzen gesetzt.
LOCATION:
UID:https://www.fischland-darss-zingst.net/fdz/veranstaltungen/termine/aktuell/winter-atelier-1.php?uid=32b3c42fb156d454e04d92884edb2ca4
URL:https://www.fischland-darss-zingst.net/fdz/veranstaltungen/termine/aktuell/winter-atelier-1.php
END:VEVENT
BEGIN:VEVENT
SUMMARY:Winter-Atelier
DTSTART:20250303T100000
DTEND:20250303T160000
DESCRIPTION:Winter-Atelier heißt kreatives Gestalten mit Farbe, Papier, Naturmaterialien, Sand auf Papier, Pappe, Leinen und Holz. Das Ergebnis können Wintergrußkarten, Lesezeichen, Winterbilder und vieles mehr sein. Der winterlichen Kreativität sind keine Grenzen gesetzt.
LOCATION:
UID:https://www.fischland-darss-zingst.net/fdz/veranstaltungen/termine/aktuell/winter-atelier-1.php?uid=f1f31ba4ca75f5a8025c767bfe51ce05
URL:https://www.fischland-darss-zingst.net/fdz/veranstaltungen/termine/aktuell/winter-atelier-1.php
END:VEVENT
END:VCALENDAR