BEGIN:VCALENDAR
METHOD:PUBLISH
PRODID:-//Weblication CMS
VERSION:2.0
BEGIN:VEVENT
SUMMARY:Wiecker Faschingsfeier 
DTSTART:20250222T190000
DTEND:20250222T190000
DESCRIPTION:
LOCATION:
UID:https://www.fischland-darss-zingst.net/fdz/veranstaltungen/termine/aktuell/wiecker-faschingsfeier.php?uid=97bda1649dacaa28c89a2dc336b39fd5
URL:https://www.fischland-darss-zingst.net/fdz/veranstaltungen/termine/aktuell/wiecker-faschingsfeier.php
END:VEVENT
END:VCALENDAR