BEGIN:VCALENDAR
METHOD:PUBLISH
PRODID:-//Weblication CMS
VERSION:2.0
BEGIN:VEVENT
SUMMARY:Treffen der Shantychöre
DTSTART:20240913T160000
DTEND:20240913T161500
DESCRIPTION:In der wunderschönen Kulisse der Ostsee versammeln sich zahlreiche Shantychöre aus ganz Deutschland, um gemeinsam zu singen, Geschichten zu erzählen und die Traditionen der Seefahrt zu feiern. Die Förderung und die Pflege des maritimen Liedgutes der Region stehen hier im Vordergrund, genauso wie die Freude der Chöre am gemeinsamen Gesang.
LOCATION:
UID:https://www.fischland-darss-zingst.net/fdz/veranstaltungen/termine/aktuell/treffen-der-shantychoere.php?uid=6782448cc2f34b81b1437a8666cd19b8
URL:https://www.fischland-darss-zingst.net/fdz/veranstaltungen/termine/aktuell/treffen-der-shantychoere.php
END:VEVENT
BEGIN:VEVENT
SUMMARY:Treffen der Shantychöre
DTSTART:20240913T161500
DTEND:20240913T171500
DESCRIPTION:In der wunderschönen Kulisse der Ostsee versammeln sich zahlreiche Shantychöre aus ganz Deutschland, um gemeinsam zu singen, Geschichten zu erzählen und die Traditionen der Seefahrt zu feiern. Die Förderung und die Pflege des maritimen Liedgutes der Region stehen hier im Vordergrund, genauso wie die Freude der Chöre am gemeinsamen Gesang.
LOCATION:
UID:https://www.fischland-darss-zingst.net/fdz/veranstaltungen/termine/aktuell/treffen-der-shantychoere.php?uid=750099e57d4739049ba1e6d431bd27b9
URL:https://www.fischland-darss-zingst.net/fdz/veranstaltungen/termine/aktuell/treffen-der-shantychoere.php
END:VEVENT
BEGIN:VEVENT
SUMMARY:Treffen der Shantychöre
DTSTART:20240913T180000
DTEND:20240913T190000
DESCRIPTION:In der wunderschönen Kulisse der Ostsee versammeln sich zahlreiche Shantychöre aus ganz Deutschland, um gemeinsam zu singen, Geschichten zu erzählen und die Traditionen der Seefahrt zu feiern. Die Förderung und die Pflege des maritimen Liedgutes der Region stehen hier im Vordergrund, genauso wie die Freude der Chöre am gemeinsamen Gesang.
LOCATION:
UID:https://www.fischland-darss-zingst.net/fdz/veranstaltungen/termine/aktuell/treffen-der-shantychoere.php?uid=9c477f2cd895082d2ce6a6fff0f11a31
URL:https://www.fischland-darss-zingst.net/fdz/veranstaltungen/termine/aktuell/treffen-der-shantychoere.php
END:VEVENT
BEGIN:VEVENT
SUMMARY:Treffen der Shantychöre
DTSTART:20240913T194500
DTEND:20240913T204500
DESCRIPTION:In der wunderschönen Kulisse der Ostsee versammeln sich zahlreiche Shantychöre aus ganz Deutschland, um gemeinsam zu singen, Geschichten zu erzählen und die Traditionen der Seefahrt zu feiern. Die Förderung und die Pflege des maritimen Liedgutes der Region stehen hier im Vordergrund, genauso wie die Freude der Chöre am gemeinsamen Gesang.
LOCATION:
UID:https://www.fischland-darss-zingst.net/fdz/veranstaltungen/termine/aktuell/treffen-der-shantychoere.php?uid=dfdfe425cf7d54476158495e81c2b339
URL:https://www.fischland-darss-zingst.net/fdz/veranstaltungen/termine/aktuell/treffen-der-shantychoere.php
END:VEVENT
BEGIN:VEVENT
SUMMARY:Treffen der Shantychöre
DTSTART:20240914T103000
DTEND:20240914T114500
DESCRIPTION:In der wunderschönen Kulisse der Ostsee versammeln sich zahlreiche Shantychöre aus ganz Deutschland, um gemeinsam zu singen, Geschichten zu erzählen und die Traditionen der Seefahrt zu feiern. Die Förderung und die Pflege des maritimen Liedgutes der Region stehen hier im Vordergrund, genauso wie die Freude der Chöre am gemeinsamen Gesang.
LOCATION:
UID:https://www.fischland-darss-zingst.net/fdz/veranstaltungen/termine/aktuell/treffen-der-shantychoere.php?uid=309eb54973ef57b5b4c4792e2eeff25c
URL:https://www.fischland-darss-zingst.net/fdz/veranstaltungen/termine/aktuell/treffen-der-shantychoere.php
END:VEVENT
BEGIN:VEVENT
SUMMARY:Treffen der Shantychöre
DTSTART:20240914T123000
DTEND:20240914T133000
DESCRIPTION:In der wunderschönen Kulisse der Ostsee versammeln sich zahlreiche Shantychöre aus ganz Deutschland, um gemeinsam zu singen, Geschichten zu erzählen und die Traditionen der Seefahrt zu feiern. Die Förderung und die Pflege des maritimen Liedgutes der Region stehen hier im Vordergrund, genauso wie die Freude der Chöre am gemeinsamen Gesang.
LOCATION:
UID:https://www.fischland-darss-zingst.net/fdz/veranstaltungen/termine/aktuell/treffen-der-shantychoere.php?uid=896098df45c70b77f48d3b9d9b3a8a2a
URL:https://www.fischland-darss-zingst.net/fdz/veranstaltungen/termine/aktuell/treffen-der-shantychoere.php
END:VEVENT
BEGIN:VEVENT
SUMMARY:Treffen der Shantychöre
DTSTART:20240914T141500
DTEND:20240914T151500
DESCRIPTION:In der wunderschönen Kulisse der Ostsee versammeln sich zahlreiche Shantychöre aus ganz Deutschland, um gemeinsam zu singen, Geschichten zu erzählen und die Traditionen der Seefahrt zu feiern. Die Förderung und die Pflege des maritimen Liedgutes der Region stehen hier im Vordergrund, genauso wie die Freude der Chöre am gemeinsamen Gesang.
LOCATION:
UID:https://www.fischland-darss-zingst.net/fdz/veranstaltungen/termine/aktuell/treffen-der-shantychoere.php?uid=894dd8300600e8f5fa97394a35be4de1
URL:https://www.fischland-darss-zingst.net/fdz/veranstaltungen/termine/aktuell/treffen-der-shantychoere.php
END:VEVENT
BEGIN:VEVENT
SUMMARY:Treffen der Shantychöre
DTSTART:20240914T160000
DTEND:20240914T170000
DESCRIPTION:In der wunderschönen Kulisse der Ostsee versammeln sich zahlreiche Shantychöre aus ganz Deutschland, um gemeinsam zu singen, Geschichten zu erzählen und die Traditionen der Seefahrt zu feiern. Die Förderung und die Pflege des maritimen Liedgutes der Region stehen hier im Vordergrund, genauso wie die Freude der Chöre am gemeinsamen Gesang.
LOCATION:
UID:https://www.fischland-darss-zingst.net/fdz/veranstaltungen/termine/aktuell/treffen-der-shantychoere.php?uid=929c1a239d0d6a0631d03346e81e7334
URL:https://www.fischland-darss-zingst.net/fdz/veranstaltungen/termine/aktuell/treffen-der-shantychoere.php
END:VEVENT
BEGIN:VEVENT
SUMMARY:Treffen der Shantychöre
DTSTART:20240914T174500
DTEND:20240914T184500
DESCRIPTION:In der wunderschönen Kulisse der Ostsee versammeln sich zahlreiche Shantychöre aus ganz Deutschland, um gemeinsam zu singen, Geschichten zu erzählen und die Traditionen der Seefahrt zu feiern. Die Förderung und die Pflege des maritimen Liedgutes der Region stehen hier im Vordergrund, genauso wie die Freude der Chöre am gemeinsamen Gesang.
LOCATION:
UID:https://www.fischland-darss-zingst.net/fdz/veranstaltungen/termine/aktuell/treffen-der-shantychoere.php?uid=12befbde18ccb0e413d63e7fd8a30ba5
URL:https://www.fischland-darss-zingst.net/fdz/veranstaltungen/termine/aktuell/treffen-der-shantychoere.php
END:VEVENT
BEGIN:VEVENT
SUMMARY:Treffen der Shantychöre
DTSTART:20240914T193000
DTEND:20240914T200000
DESCRIPTION:In der wunderschönen Kulisse der Ostsee versammeln sich zahlreiche Shantychöre aus ganz Deutschland, um gemeinsam zu singen, Geschichten zu erzählen und die Traditionen der Seefahrt zu feiern. Die Förderung und die Pflege des maritimen Liedgutes der Region stehen hier im Vordergrund, genauso wie die Freude der Chöre am gemeinsamen Gesang.
LOCATION:
UID:https://www.fischland-darss-zingst.net/fdz/veranstaltungen/termine/aktuell/treffen-der-shantychoere.php?uid=4098a8a2242bcbc999ad90119390dd16
URL:https://www.fischland-darss-zingst.net/fdz/veranstaltungen/termine/aktuell/treffen-der-shantychoere.php
END:VEVENT
BEGIN:VEVENT
SUMMARY:Treffen der Shantychöre
DTSTART:20240914T203000
DTEND:20240914T210000
DESCRIPTION:In der wunderschönen Kulisse der Ostsee versammeln sich zahlreiche Shantychöre aus ganz Deutschland, um gemeinsam zu singen, Geschichten zu erzählen und die Traditionen der Seefahrt zu feiern. Die Förderung und die Pflege des maritimen Liedgutes der Region stehen hier im Vordergrund, genauso wie die Freude der Chöre am gemeinsamen Gesang.
LOCATION:
UID:https://www.fischland-darss-zingst.net/fdz/veranstaltungen/termine/aktuell/treffen-der-shantychoere.php?uid=8dc91c467de0a33b7b684a66e8e1cce5
URL:https://www.fischland-darss-zingst.net/fdz/veranstaltungen/termine/aktuell/treffen-der-shantychoere.php
END:VEVENT
BEGIN:VEVENT
SUMMARY:Treffen der Shantychöre
DTSTART:20240915T103000
DTEND:20240915T114500
DESCRIPTION:In der wunderschönen Kulisse der Ostsee versammeln sich zahlreiche Shantychöre aus ganz Deutschland, um gemeinsam zu singen, Geschichten zu erzählen und die Traditionen der Seefahrt zu feiern. Die Förderung und die Pflege des maritimen Liedgutes der Region stehen hier im Vordergrund, genauso wie die Freude der Chöre am gemeinsamen Gesang.
LOCATION:
UID:https://www.fischland-darss-zingst.net/fdz/veranstaltungen/termine/aktuell/treffen-der-shantychoere.php?uid=a6c60193f5f2f999a7d9f20a858ffc2f
URL:https://www.fischland-darss-zingst.net/fdz/veranstaltungen/termine/aktuell/treffen-der-shantychoere.php
END:VEVENT
BEGIN:VEVENT
SUMMARY:Treffen der Shantychöre
DTSTART:20240915T123000
DTEND:20240915T133000
DESCRIPTION:In der wunderschönen Kulisse der Ostsee versammeln sich zahlreiche Shantychöre aus ganz Deutschland, um gemeinsam zu singen, Geschichten zu erzählen und die Traditionen der Seefahrt zu feiern. Die Förderung und die Pflege des maritimen Liedgutes der Region stehen hier im Vordergrund, genauso wie die Freude der Chöre am gemeinsamen Gesang.
LOCATION:
UID:https://www.fischland-darss-zingst.net/fdz/veranstaltungen/termine/aktuell/treffen-der-shantychoere.php?uid=d6d3a9d940538e7661920a0d85a7cba4
URL:https://www.fischland-darss-zingst.net/fdz/veranstaltungen/termine/aktuell/treffen-der-shantychoere.php
END:VEVENT
BEGIN:VEVENT
SUMMARY:Treffen der Shantychöre
DTSTART:20240915T141500
DTEND:20240915T151500
DESCRIPTION:In der wunderschönen Kulisse der Ostsee versammeln sich zahlreiche Shantychöre aus ganz Deutschland, um gemeinsam zu singen, Geschichten zu erzählen und die Traditionen der Seefahrt zu feiern. Die Förderung und die Pflege des maritimen Liedgutes der Region stehen hier im Vordergrund, genauso wie die Freude der Chöre am gemeinsamen Gesang.
LOCATION:
UID:https://www.fischland-darss-zingst.net/fdz/veranstaltungen/termine/aktuell/treffen-der-shantychoere.php?uid=1e325f8464c3f84c415ab6a6cf36b532
URL:https://www.fischland-darss-zingst.net/fdz/veranstaltungen/termine/aktuell/treffen-der-shantychoere.php
END:VEVENT
BEGIN:VEVENT
SUMMARY:Treffen der Shantychöre
DTSTART:20240915T161500
DTEND:20240915T171500
DESCRIPTION:In der wunderschönen Kulisse der Ostsee versammeln sich zahlreiche Shantychöre aus ganz Deutschland, um gemeinsam zu singen, Geschichten zu erzählen und die Traditionen der Seefahrt zu feiern. Die Förderung und die Pflege des maritimen Liedgutes der Region stehen hier im Vordergrund, genauso wie die Freude der Chöre am gemeinsamen Gesang.
LOCATION:
UID:https://www.fischland-darss-zingst.net/fdz/veranstaltungen/termine/aktuell/treffen-der-shantychoere.php?uid=d7343b963ec688bb7d674f4740d442e3
URL:https://www.fischland-darss-zingst.net/fdz/veranstaltungen/termine/aktuell/treffen-der-shantychoere.php
END:VEVENT
END:VCALENDAR