BEGIN:VCALENDAR
METHOD:PUBLISH
PRODID:-//Weblication CMS
VERSION:2.0
BEGIN:VEVENT
SUMMARY:Töpfern mit Kindern - Kinderfrühling
DTSTART:20260407T150000
DTEND:20260407T165959
DESCRIPTION:Beim Kneten, Modellieren, Quetschen, Formen der kleinen Kunstwerke aus Ton können die jungen Töpfer ihrer Phantasie freien Lauf lassen und den Werkstoff Ton mit allen Sinnen entdecken. Wem das noch nicht so gut gelingt, dem gibt Frau Jankowski vom „Töpperhus“ in Niehagen gern Anregungen und hilft bei der Umsetzung der geplanten Kunstwerke.
LOCATION:
UID:https://www.fischland-darss-zingst.net/fdz/veranstaltungen/termine/aktuell/toepfern-mit-kindern-kinderfruehling.php?uid=40fa46b7e7004d4dae714c6d756a7caf
URL:https://www.fischland-darss-zingst.net/fdz/veranstaltungen/termine/aktuell/toepfern-mit-kindern-kinderfruehling.php
END:VEVENT
END:VCALENDAR