BEGIN:VCALENDAR
METHOD:PUBLISH
PRODID:-//Weblication CMS
VERSION:2.0
BEGIN:VEVENT
SUMMARY:Straßenfest
DTSTART:20250614T150000
DTEND:20250614T180000
DESCRIPTION:mit Spiel & Spaß, Musik, Speisen und Getränken Ein Flohmarkt lädt zum Stöbern ein und für die Kids gibt es u.a. eine Hüpfburg, Kinderschminken und Ponyreiten.
LOCATION:
UID:https://www.fischland-darss-zingst.net/fdz/veranstaltungen/termine/aktuell/strassenfest.php?uid=7a2edb9dc36af0bf41e0341778ca9ce2
URL:https://www.fischland-darss-zingst.net/fdz/veranstaltungen/termine/aktuell/strassenfest.php
END:VEVENT
END:VCALENDAR