BEGIN:VCALENDAR
METHOD:PUBLISH
PRODID:-//Weblication CMS
VERSION:2.0
BEGIN:VEVENT
SUMMARY:Sommerabend am Strand mit Tidemore
DTSTART:20250708T190000
DTEND:20250708T190000
DESCRIPTION:Es ist jedes Mal eine Reise, die beginnt, wenn man der Musik von TIDEMORE lauscht. Und man weiß nicht genau, wohin sie einen führen wird... Die perfekt aufeinander abgestimmten Brüder Matthias und Andreas Pietsch sind aktuell mit ihrem vierten Album „TRANSITIONS“ unterwegs. Wie ein Soundtrack passt es in die Zeiten, die sich wenden und dich ändern.Die beiden wissen einfach, wie man eingängige Songs schreibt. Und in gewohnter Offenheit bringen sie diese mit ihrem akustischen Sound zum Strahlen. Dabei überzeugen sie mit ihrer Fähigkeit, eine ergreifende Atmosphäre zu erzeugen und ihr Publikum tief im Inneren zu berühren. Sie bedienen die großen Gefühle und sind dabei doch niemals trivial.
LOCATION:
UID:https://www.fischland-darss-zingst.net/fdz/veranstaltungen/termine/aktuell/sommerabend-am-strand-mit-tidemore.php?uid=fed3016938ae1ea19b61716072f6f835
URL:https://www.fischland-darss-zingst.net/fdz/veranstaltungen/termine/aktuell/sommerabend-am-strand-mit-tidemore.php
END:VEVENT
END:VCALENDAR