BEGIN:VCALENDAR
METHOD:PUBLISH
PRODID:-//Weblication CMS
VERSION:2.0
BEGIN:VEVENT
SUMMARY:Sommerabend am Strand mit Leon Zeug
DTSTART:20250715T190000
DTEND:20250715T220000
DESCRIPTION:Alleine auf der Bühne macht Leon Zeug aus wenig viel wenn er seine Songs zum Besten gibt. Nach der Veröffentlichung seines Debut Albums im Jahre 2023, erforscht er nun, mit neuen Songs, was es heißt Mensch zu sein. Mit Gitarre, Cajon und Mundharmonika kreiert er live eine gewohnte aber doch frische Infusion aus englischem Folk und Pop die unter die Haut geht und Potential zum Sommerhit hat. Treibende, meditative Rhythmen untermalen Songs die dich einladen für einen Moment inne zu halten und mit offenem Ohr und Herzen zu lauschen. Ob Rhythmen zum Tanzen, Texte zum Weinen oder Melodien die einem ein Lächeln auf die Lippen zaubern: Hier findest du was du suchst.
LOCATION:
UID:https://www.fischland-darss-zingst.net/fdz/veranstaltungen/termine/aktuell/sommerabend-am-strand-mit-leon-zeug.php?uid=b74c7101a17842d8501ffdf8a81720f8
URL:https://www.fischland-darss-zingst.net/fdz/veranstaltungen/termine/aktuell/sommerabend-am-strand-mit-leon-zeug.php
END:VEVENT
END:VCALENDAR