BEGIN:VCALENDAR
METHOD:PUBLISH
PRODID:-//Weblication CMS
VERSION:2.0
BEGIN:VEVENT
SUMMARY:Shantychor Stavenhagen &quot;Windstärke7&quot; e.V. 
DTSTART:20250913T174500
DTEND:20250913T184500
DESCRIPTION:Der Shanty Chor Stavenhagen "Windstärke7" e.V. wurde im Mai 2018 gegründet. Bei der Gründungssitzung waren sieben Mitglieder anwesend.
LOCATION:
UID:https://www.fischland-darss-zingst.net/fdz/veranstaltungen/termine/aktuell/shantychor-stavenhagen-windstaerke7-e-v.php?uid=44cf7018dca965fb748cd8bf5b3d13b3
URL:https://www.fischland-darss-zingst.net/fdz/veranstaltungen/termine/aktuell/shantychor-stavenhagen-windstaerke7-e-v.php
END:VEVENT
END:VCALENDAR