BEGIN:VCALENDAR
METHOD:PUBLISH
PRODID:-//Weblication CMS
VERSION:2.0
BEGIN:VEVENT
SUMMARY:Shantychor „Seegrund Ahlbeck“ 
DTSTART:20250914T123000
DTEND:20250914T133000
DESCRIPTION:Der Shantychor „Seegrund Ahlbeck“ wurde im Januar 2005 ins Leben gerufen – aus einer Idee, die in den Köpfen von zwölf musikbegeisterten Männern aus Ahlbeck und Gegensee heranreifte. Inspiriert wurden sie dabei von Dietmar Strauß, einem ehemaligen Sänger des Duisburger Polizeichors, der seine Leidenschaft für maritime Lieder mit ansteckender Begeisterung weitergab.
LOCATION:
UID:https://www.fischland-darss-zingst.net/fdz/veranstaltungen/termine/aktuell/shantychor-seegrund-ahlbeck.php?uid=4be1d60468ef3e4a7f1c440dd6c72db2
URL:https://www.fischland-darss-zingst.net/fdz/veranstaltungen/termine/aktuell/shantychor-seegrund-ahlbeck.php
END:VEVENT
END:VCALENDAR