BEGIN:VCALENDAR
METHOD:PUBLISH
PRODID:-//Weblication CMS
VERSION:2.0
BEGIN:VEVENT
SUMMARY:Shantychor Sassnitz 
DTSTART:20250912T180000
DTEND:20250912T190000
DESCRIPTION:Den Shantychor Sassnitz gibt es seit 1989 und er wurde 2009 als Kulturpreisträger der Kulturstiftung Rügen ausgezeichnet.
LOCATION:
UID:https://www.fischland-darss-zingst.net/fdz/veranstaltungen/termine/aktuell/shantychor-sassnitz.php?uid=210805f73ca4e04135565a984c195414
URL:https://www.fischland-darss-zingst.net/fdz/veranstaltungen/termine/aktuell/shantychor-sassnitz.php
END:VEVENT
END:VCALENDAR