BEGIN:VCALENDAR
METHOD:PUBLISH
PRODID:-//Weblication CMS
VERSION:2.0
BEGIN:VEVENT
SUMMARY:Shantychor „Möwenschiet“ 
DTSTART:20250919T150000
DTEND:20250919T150000
DESCRIPTION:Seit seiner Gründung im Jahr 1980 stand für den Lübecker Shanty-Chor Möwenschiet eines fest: Die Leidenschaft für Seefahrt und Musik mit anderen zu teilen.
LOCATION:
UID:https://www.fischland-darss-zingst.net/fdz/veranstaltungen/termine/aktuell/shantychor-moewenschiet.php?uid=e8eef4704a5ea1f27acfece0ba953c0f
URL:https://www.fischland-darss-zingst.net/fdz/veranstaltungen/termine/aktuell/shantychor-moewenschiet.php
END:VEVENT
END:VCALENDAR