BEGIN:VCALENDAR
METHOD:PUBLISH
PRODID:-//Weblication CMS
VERSION:2.0
BEGIN:VEVENT
SUMMARY:Shantychor &quot;De Prohner Hafengäng&quot; 
DTSTART:20250912T161500
DTEND:20250912T171500
DESCRIPTION:Wir laden Sie herzlich zum 27. Shantychortreffen nach Zingst ein. Dieses besondere Ereignis wird für alle Liebhaber von Shantys und Seemannsliedern ein unvergessliches Erlebnis sein.
LOCATION:
UID:https://www.fischland-darss-zingst.net/fdz/veranstaltungen/termine/aktuell/shantychor-de-prohner-hafengaeng.php?uid=e04757a9998819b639a5701e2c6069cc
URL:https://www.fischland-darss-zingst.net/fdz/veranstaltungen/termine/aktuell/shantychor-de-prohner-hafengaeng.php
END:VEVENT
END:VCALENDAR