BEGIN:VCALENDAR
METHOD:PUBLISH
PRODID:-//Weblication CMS
VERSION:2.0
BEGIN:VEVENT
SUMMARY:Shantychor &quot;De Prohner Hafengäng&quot; 
DTSTART:20250914T161500
DTEND:20250914T171500
DESCRIPTION:
LOCATION:
UID:https://www.fischland-darss-zingst.net/fdz/veranstaltungen/termine/aktuell/shantychor-de-prohner-hafengaeng-1.php?uid=a52608e90896200bd3fd0a8c43563275
URL:https://www.fischland-darss-zingst.net/fdz/veranstaltungen/termine/aktuell/shantychor-de-prohner-hafengaeng-1.php
END:VEVENT
END:VCALENDAR