BEGIN:VCALENDAR
METHOD:PUBLISH
PRODID:-//Weblication CMS
VERSION:2.0
BEGIN:VEVENT
SUMMARY:Shanty-Chor Geraberg 
DTSTART:20250919T141500
DTEND:20250919T151500
DESCRIPTION:Der Shanty-Chor Geraberg e.V. bringt seit seiner Gründung am 7. März 2011 norddeutsche Seemannstradition in das Herz Thüringens. Als erster Shanty-Chor des Freistaats begeistert die rund 24-köpfige Sängerrunde ihr Publikum mit schwungvollen, maritimen Liedern – von traditionellen Shantys bis zu eigenen Arrangements.
LOCATION:
UID:https://www.fischland-darss-zingst.net/fdz/veranstaltungen/termine/aktuell/shanty-chor-geraberg.php?uid=c3c43e13f72061cc9788b620bff8cb08
URL:https://www.fischland-darss-zingst.net/fdz/veranstaltungen/termine/aktuell/shanty-chor-geraberg.php
END:VEVENT
END:VCALENDAR