BEGIN:VCALENDAR
METHOD:PUBLISH
PRODID:-//Weblication CMS
VERSION:2.0
BEGIN:VEVENT
SUMMARY:Schatzsuche mit Spiel und Spass 
DTSTART:20250205T100000
DTEND:20250205T120000
DESCRIPTION:Wildnispädagogin Marie Bohnenstengel freut sich auf Ferienkinder und verspricht jede Menge Spaß mit einer spannenden Schatzsuche. Im Ribnitzer Forst gibt es viel zu entdecken: ob Vogelfedern, Eicheln oder Schneckenhäuser. Die Aktivitäten zielen darauf ab, den kleinen Gegenständen große Aufmerksamkeit zu schenken. 
LOCATION:
UID:https://www.fischland-darss-zingst.net/fdz/veranstaltungen/termine/aktuell/schatzsuche-mit-spiel-und-spass.php?uid=851fc32a1361fe617472b4b52fb4d626
URL:https://www.fischland-darss-zingst.net/fdz/veranstaltungen/termine/aktuell/schatzsuche-mit-spiel-und-spass.php
END:VEVENT
BEGIN:VEVENT
SUMMARY:Schatzsuche mit Spiel und Spass 
DTSTART:20250212T100000
DTEND:20250212T120000
DESCRIPTION:Wildnispädagogin Marie Bohnenstengel freut sich auf Ferienkinder und verspricht jede Menge Spaß mit einer spannenden Schatzsuche. Im Ribnitzer Forst gibt es viel zu entdecken: ob Vogelfedern, Eicheln oder Schneckenhäuser. Die Aktivitäten zielen darauf ab, den kleinen Gegenständen große Aufmerksamkeit zu schenken. 
LOCATION:
UID:https://www.fischland-darss-zingst.net/fdz/veranstaltungen/termine/aktuell/schatzsuche-mit-spiel-und-spass.php?uid=0de9a573b8c2c71cc45d3fa20542bbc4
URL:https://www.fischland-darss-zingst.net/fdz/veranstaltungen/termine/aktuell/schatzsuche-mit-spiel-und-spass.php
END:VEVENT
END:VCALENDAR