BEGIN:VCALENDAR
METHOD:PUBLISH
PRODID:-//Weblication CMS
VERSION:2.0
BEGIN:VEVENT
SUMMARY:Rostocker Shantychor Breitlings 
DTSTART:20250913T193000
DTEND:20250913T200000
DESCRIPTION:Seit 1986 widmet sich der Rostocker Shantychor Breitlings der authentischen Interpretation maritimer Lieder. Mit voller Hingabe bringen sie die Seele der Seefahrt zum Klingen.
LOCATION:
UID:https://www.fischland-darss-zingst.net/fdz/veranstaltungen/termine/aktuell/rostocker-shantychor-breitlings.php?uid=a475a6b6679ab644d17411b687aae64a
URL:https://www.fischland-darss-zingst.net/fdz/veranstaltungen/termine/aktuell/rostocker-shantychor-breitlings.php
END:VEVENT
BEGIN:VEVENT
SUMMARY:Rostocker Shantychor Breitlings 
DTSTART:20250913T203000
DTEND:20250913T210000
DESCRIPTION:Seit 1986 widmet sich der Rostocker Shantychor Breitlings der authentischen Interpretation maritimer Lieder. Mit voller Hingabe bringen sie die Seele der Seefahrt zum Klingen.
LOCATION:
UID:https://www.fischland-darss-zingst.net/fdz/veranstaltungen/termine/aktuell/rostocker-shantychor-breitlings.php?uid=425f6f26ac8a8ed39e47b6e5b94fc28a
URL:https://www.fischland-darss-zingst.net/fdz/veranstaltungen/termine/aktuell/rostocker-shantychor-breitlings.php
END:VEVENT
END:VCALENDAR