BEGIN:VCALENDAR
METHOD:PUBLISH
PRODID:-//Weblication CMS
VERSION:2.0
BEGIN:VEVENT
SUMMARY:Osterspaziergang im Osterwald
DTSTART:20260405T150000
DTEND:20260405T180000
DESCRIPTION:Ostern und Osterwald, was hat das miteinander zu tun? Genau das gilt es bei dieser interessanten Führung herauszufinden. Dabei wird die spannende Entwicklung im Osterwald unter die Lupe genommen und Sie erfahren viel Wissenswertes über die darin lebende Tierwelt sowie die Renaturierung des einzigen Regenmoores Mecklenburg-Vorpommerns. Es geht vorbei an den beschaulichen Mammutbäumen, hin zum Drei-Ländereck und zurück am Strand. 
LOCATION:
UID:https://www.fischland-darss-zingst.net/fdz/veranstaltungen/termine/aktuell/osterspaziergang-im-osterwald-1.php?uid=934bafad54488d054d788fa7539c1129
URL:https://www.fischland-darss-zingst.net/fdz/veranstaltungen/termine/aktuell/osterspaziergang-im-osterwald-1.php
END:VEVENT
END:VCALENDAR