BEGIN:VCALENDAR
METHOD:PUBLISH
PRODID:-//Weblication CMS
VERSION:2.0
BEGIN:VEVENT
SUMMARY:Ostereier färben
DTSTART:20260402T130000
DTEND:20260402T170000
DESCRIPTION:Einfach vorbeikommen, mitmachen und den Frühling mit Farbe feiern! Nach baltischer Art gestalten wir gemeinsam.
LOCATION:
UID:https://www.fischland-darss-zingst.net/fdz/veranstaltungen/termine/aktuell/ostereier-faerben.php?uid=a288dc607aa19129895ef6fdddafffbc
URL:https://www.fischland-darss-zingst.net/fdz/veranstaltungen/termine/aktuell/ostereier-faerben.php
END:VEVENT
END:VCALENDAR