BEGIN:VCALENDAR
METHOD:PUBLISH
PRODID:-//Weblication CMS
VERSION:2.0
BEGIN:VEVENT
SUMMARY:Nachlese zur Leipziger Buchmesse
DTSTART:20260423T160000
DTEND:20260423T180000
DESCRIPTION:Entdecken, stöbern und inspirieren lassen Neben den persönlichen Messeberichten gibt es viel zu entdecken: Büchertische mit den neuesten Erwerbungen der Bibliothek laden zum Schmökern ein. Hier lassen sich angesagte Bestseller, literarische Geheimtipps und außergewöhnliche Werke aus aller Welt finden. Darüber hinaus können sich Besucher:innen über aktuelle Buchtrends informieren, neue Autor:innen kennenlernen und vielleicht sogar ihr nächstes Lieblingsbuch entdecken. Die Nachlese bietet eine wunderbare Gelegenheit, in die Welt der Literatur einzutauchen und sich von der Magie des geschriebenen Wortes begeistern zu lassen.
LOCATION:
UID:https://www.fischland-darss-zingst.net/fdz/veranstaltungen/termine/aktuell/nachlese-zur-leipziger-buchmesse.php?uid=52e8de881d929d30be807f346eb82fc5
URL:https://www.fischland-darss-zingst.net/fdz/veranstaltungen/termine/aktuell/nachlese-zur-leipziger-buchmesse.php
END:VEVENT
END:VCALENDAR