BEGIN:VCALENDAR
METHOD:PUBLISH
PRODID:-//Weblication CMS
VERSION:2.0
BEGIN:VEVENT
SUMMARY:„Mein kleines Strandbuch“ – Kreatives Schreiben für Kinder
DTSTART:20250702T000000
DTEND:20250702T000000
DESCRIPTION:Außerdem toben wir uns munter in Buchstaben- und Wortspielen aus. Zum Schluss nehmen alle ein eigenes Büchlein für ihre kreativen Ostsee-Schätze mit nach Haus: als Erinnerung, zum Weiterschreiben oder als Geschenk, das es auch nur ein einziges Mal auf der Welt gibt.
LOCATION:
UID:https://www.fischland-darss-zingst.net/fdz/veranstaltungen/termine/aktuell/mein-kleines-strandbuch-kreatives-schreiben-fuer-kinder.php?uid=b5a0612cdade3e9633947bec9deb91e9
URL:https://www.fischland-darss-zingst.net/fdz/veranstaltungen/termine/aktuell/mein-kleines-strandbuch-kreatives-schreiben-fuer-kinder.php
END:VEVENT
BEGIN:VEVENT
SUMMARY:„Mein kleines Strandbuch“ – Kreatives Schreiben für Kinder
DTSTART:20250806T000000
DTEND:20250806T000000
DESCRIPTION:Außerdem toben wir uns munter in Buchstaben- und Wortspielen aus. Zum Schluss nehmen alle ein eigenes Büchlein für ihre kreativen Ostsee-Schätze mit nach Haus: als Erinnerung, zum Weiterschreiben oder als Geschenk, das es auch nur ein einziges Mal auf der Welt gibt.
LOCATION:
UID:https://www.fischland-darss-zingst.net/fdz/veranstaltungen/termine/aktuell/mein-kleines-strandbuch-kreatives-schreiben-fuer-kinder.php?uid=c4356f5e62857909f84436e4cc68ad95
URL:https://www.fischland-darss-zingst.net/fdz/veranstaltungen/termine/aktuell/mein-kleines-strandbuch-kreatives-schreiben-fuer-kinder.php
END:VEVENT
BEGIN:VEVENT
SUMMARY:„Mein kleines Strandbuch“ – Kreatives Schreiben für Kinder
DTSTART:20250903T000000
DTEND:20250903T000000
DESCRIPTION:Außerdem toben wir uns munter in Buchstaben- und Wortspielen aus. Zum Schluss nehmen alle ein eigenes Büchlein für ihre kreativen Ostsee-Schätze mit nach Haus: als Erinnerung, zum Weiterschreiben oder als Geschenk, das es auch nur ein einziges Mal auf der Welt gibt.
LOCATION:
UID:https://www.fischland-darss-zingst.net/fdz/veranstaltungen/termine/aktuell/mein-kleines-strandbuch-kreatives-schreiben-fuer-kinder.php?uid=771329c5ba385209538fbcc75d399426
URL:https://www.fischland-darss-zingst.net/fdz/veranstaltungen/termine/aktuell/mein-kleines-strandbuch-kreatives-schreiben-fuer-kinder.php
END:VEVENT
END:VCALENDAR