BEGIN:VCALENDAR
METHOD:PUBLISH
PRODID:-//Weblication CMS
VERSION:2.0
BEGIN:VEVENT
SUMMARY: Lesung: Wustrower Theaterweiber
DTSTART:20251023T190000
DTEND:20251023T190000
DESCRIPTION:Programm: "Keine Angst vor Thomas Mann" 
LOCATION:
UID:https://www.fischland-darss-zingst.net/fdz/veranstaltungen/termine/aktuell/lesung-wustrower-theaterweiber.php?uid=7d1d93db0c68fc2db54fd78b8ddb5f86
URL:https://www.fischland-darss-zingst.net/fdz/veranstaltungen/termine/aktuell/lesung-wustrower-theaterweiber.php
END:VEVENT
END:VCALENDAR