BEGIN:VCALENDAR
METHOD:PUBLISH
PRODID:-//Weblication CMS
VERSION:2.0
BEGIN:VEVENT
SUMMARY:Leif Tennemann – Radiomoderator, Comedian und Autor
DTSTART:20250914T103000
DTEND:20250914T114500
DESCRIPTION:Leif Tennemann präsentiert: "Vorsicht, Leif!"  Leif Tennemann ist ein deutscher Radiomoderator, Comedian und Autor, der vor allem durch seine Arbeit beim Norddeutschen Rundfunk (NDR) große Bekanntheit erlangt hat.
LOCATION:
UID:https://www.fischland-darss-zingst.net/fdz/veranstaltungen/termine/aktuell/leif-tennemann-radiomoderator-comedian-und-autor.php?uid=3dc5f9f395064a81a1d1b11c44984b9c
URL:https://www.fischland-darss-zingst.net/fdz/veranstaltungen/termine/aktuell/leif-tennemann-radiomoderator-comedian-und-autor.php
END:VEVENT
END:VCALENDAR