BEGIN:VCALENDAR
METHOD:PUBLISH
PRODID:-//Weblication CMS
VERSION:2.0
BEGIN:VEVENT
SUMMARY:Konzerte in der Peter-Pauls-Kirche
DTSTART:20250529T190000
DTEND:20250529T203000
DESCRIPTION:Die Peter-Pauls-Kirche in Zingst ist weit mehr als nur ein historisches Bauwerk – sie ist ein Ort der Begegnung, der Kultur und vor allem der Musik. Wer Konzerte in einzigartiger Atmosphäre genießen möchte, ist hier genau richtig. Tatsächlich Liebe - und was ist mit mir? Ein Abend voller Lachen, Musik und tiefgründiger Impulse: Torsten Hebel & Klaus-André Eickhoff live
LOCATION:
UID:https://www.fischland-darss-zingst.net/fdz/veranstaltungen/termine/aktuell/konzerte-in-der-peter-pauls-kirche.php?uid=0a89239132d7a29d7fc7b3e3bacdbf6b
URL:https://www.fischland-darss-zingst.net/fdz/veranstaltungen/termine/aktuell/konzerte-in-der-peter-pauls-kirche.php
END:VEVENT
BEGIN:VEVENT
SUMMARY:Konzerte in der Peter-Pauls-Kirche
DTSTART:20250530T190000
DTEND:20250530T203000
DESCRIPTION:Die Peter-Pauls-Kirche in Zingst ist weit mehr als nur ein historisches Bauwerk – sie ist ein Ort der Begegnung, der Kultur und vor allem der Musik. Wer Konzerte in einzigartiger Atmosphäre genießen möchte, ist hier genau richtig. Tatsächlich Liebe - und was ist mit mir? Ein Abend voller Lachen, Musik und tiefgründiger Impulse: Torsten Hebel & Klaus-André Eickhoff live
LOCATION:
UID:https://www.fischland-darss-zingst.net/fdz/veranstaltungen/termine/aktuell/konzerte-in-der-peter-pauls-kirche.php?uid=c48eec493d8a7411c4f56dc7a889196b
URL:https://www.fischland-darss-zingst.net/fdz/veranstaltungen/termine/aktuell/konzerte-in-der-peter-pauls-kirche.php
END:VEVENT
BEGIN:VEVENT
SUMMARY:Konzerte in der Peter-Pauls-Kirche
DTSTART:20250531T190000
DTEND:20250531T203000
DESCRIPTION:Die Peter-Pauls-Kirche in Zingst ist weit mehr als nur ein historisches Bauwerk – sie ist ein Ort der Begegnung, der Kultur und vor allem der Musik. Wer Konzerte in einzigartiger Atmosphäre genießen möchte, ist hier genau richtig. Tatsächlich Liebe - und was ist mit mir? Ein Abend voller Lachen, Musik und tiefgründiger Impulse: Torsten Hebel & Klaus-André Eickhoff live
LOCATION:
UID:https://www.fischland-darss-zingst.net/fdz/veranstaltungen/termine/aktuell/konzerte-in-der-peter-pauls-kirche.php?uid=7f6efef0a25da62134e3fa4ae451b8cb
URL:https://www.fischland-darss-zingst.net/fdz/veranstaltungen/termine/aktuell/konzerte-in-der-peter-pauls-kirche.php
END:VEVENT
BEGIN:VEVENT
SUMMARY:Konzerte in der Peter-Pauls-Kirche
DTSTART:20250601T190000
DTEND:20250601T203000
DESCRIPTION:Die Peter-Pauls-Kirche in Zingst ist weit mehr als nur ein historisches Bauwerk – sie ist ein Ort der Begegnung, der Kultur und vor allem der Musik. Wer Konzerte in einzigartiger Atmosphäre genießen möchte, ist hier genau richtig. Tatsächlich Liebe - und was ist mit mir? Ein Abend voller Lachen, Musik und tiefgründiger Impulse: Torsten Hebel & Klaus-André Eickhoff live
LOCATION:
UID:https://www.fischland-darss-zingst.net/fdz/veranstaltungen/termine/aktuell/konzerte-in-der-peter-pauls-kirche.php?uid=af4bb720324b0c7c707712174ffb53a6
URL:https://www.fischland-darss-zingst.net/fdz/veranstaltungen/termine/aktuell/konzerte-in-der-peter-pauls-kirche.php
END:VEVENT
END:VCALENDAR