BEGIN:VCALENDAR
METHOD:PUBLISH
PRODID:-//Weblication CMS
VERSION:2.0
BEGIN:VEVENT
SUMMARY:Kindermitmachkonzert: herrH ist da!
DTSTART:20260405T150000
DTEND:20260405T160000
DESCRIPTION:herrH definiert den Begriff „Kinderkonzert“ neu und macht daraus kurzerhand ein Familienkonzert mit Wow-Faktor. Er lädt Kinder und Eltern dazu ein, mit ihm und einer Extraportion Konfetti, Nebel, Kuscheltier-Stagedive und dicken Bässen im Bauch eine XXL-Familyparty zu feiern.
LOCATION:
UID:https://www.fischland-darss-zingst.net/fdz/veranstaltungen/termine/aktuell/kindermitmachkonzert-herrh-ist-da.php?uid=ed9666e5e88cb6a258d5f5c65b4ca3cb
URL:https://www.fischland-darss-zingst.net/fdz/veranstaltungen/termine/aktuell/kindermitmachkonzert-herrh-ist-da.php
END:VEVENT
BEGIN:VEVENT
SUMMARY:Kindermitmachkonzert: herrH ist da!
DTSTART:20260731T180000
DTEND:20260731T190000
DESCRIPTION:herrH definiert den Begriff „Kinderkonzert“ neu und macht daraus kurzerhand ein Familienkonzert mit Wow-Faktor. Er lädt Kinder und Eltern dazu ein, mit ihm und einer Extraportion Konfetti, Nebel, Kuscheltier-Stagedive und dicken Bässen im Bauch eine XXL-Familyparty zu feiern.
LOCATION:
UID:https://www.fischland-darss-zingst.net/fdz/veranstaltungen/termine/aktuell/kindermitmachkonzert-herrh-ist-da.php?uid=1d49a3d3a42f67d5e8be3421042c9642
URL:https://www.fischland-darss-zingst.net/fdz/veranstaltungen/termine/aktuell/kindermitmachkonzert-herrh-ist-da.php
END:VEVENT
END:VCALENDAR