BEGIN:VCALENDAR
METHOD:PUBLISH
PRODID:-//Weblication CMS
VERSION:2.0
BEGIN:VEVENT
SUMMARY:Jewels - Musikalische Edelsteine
DTSTART:20250625T190000
DTEND:20250625T190000
DESCRIPTION:Angela Klee und Band präsentieren Folk-Klassiker und Welthits der letzten 60 Jahre auf ihre eigene unverwechselbare Art und Weise. Bekannte und beliebte Songs, unter anderem von Joan Baez, Bob Dylan, Neil Young, Simon & Garfunkel und Tracy Chapmann, aber auch Chart Hits von Dido, Cheryl Crow und Amy McDonald gehören zum Programm.
LOCATION:
UID:https://www.fischland-darss-zingst.net/fdz/veranstaltungen/termine/aktuell/jewels-musikalische-edelsteine.php?uid=e7b31c74d9be0acd7754e6f8f8d726c4
URL:https://www.fischland-darss-zingst.net/fdz/veranstaltungen/termine/aktuell/jewels-musikalische-edelsteine.php
END:VEVENT
BEGIN:VEVENT
SUMMARY:Jewels - Musikalische Edelsteine
DTSTART:20250813T200000
DTEND:20250813T200000
DESCRIPTION:Angela Klee und Band präsentieren Folk-Klassiker und Welthits der letzten 60 Jahre auf ihre eigene unverwechselbare Art und Weise. Bekannte und beliebte Songs, unter anderem von Joan Baez, Bob Dylan, Neil Young, Simon & Garfunkel und Tracy Chapmann, aber auch Chart Hits von Dido, Cheryl Crow und Amy McDonald gehören zum Programm.
LOCATION:
UID:https://www.fischland-darss-zingst.net/fdz/veranstaltungen/termine/aktuell/jewels-musikalische-edelsteine.php?uid=354e36121b8c27ec3209244787208119
URL:https://www.fischland-darss-zingst.net/fdz/veranstaltungen/termine/aktuell/jewels-musikalische-edelsteine.php
END:VEVENT
END:VCALENDAR