BEGIN:VCALENDAR
METHOD:PUBLISH
PRODID:-//Weblication CMS
VERSION:2.0
BEGIN:VEVENT
SUMMARY:Fischlänner Seelued 
DTSTART:20250912T194500
DTEND:20250912T204500
DESCRIPTION:Seit 27 Jahren begeistert der Shantychor "De Fischlänner Seelued" aus Ribnitz-Damgarten mit seinem maritimen Liedgut.
LOCATION:
UID:https://www.fischland-darss-zingst.net/fdz/veranstaltungen/termine/aktuell/fischlaenner-seelued.php?uid=62f03a99b593ce30eb81a41d016e5ad5
URL:https://www.fischland-darss-zingst.net/fdz/veranstaltungen/termine/aktuell/fischlaenner-seelued.php
END:VEVENT
BEGIN:VEVENT
SUMMARY:Fischlänner Seelued 
DTSTART:20250913T194500
DTEND:20250913T204500
DESCRIPTION:Seit 27 Jahren begeistert der Shantychor "De Fischlänner Seelued" aus Ribnitz-Damgarten mit seinem maritimen Liedgut.
LOCATION:
UID:https://www.fischland-darss-zingst.net/fdz/veranstaltungen/termine/aktuell/fischlaenner-seelued.php?uid=c29a9ca06ae008820e817bf242617e23
URL:https://www.fischland-darss-zingst.net/fdz/veranstaltungen/termine/aktuell/fischlaenner-seelued.php
END:VEVENT
BEGIN:VEVENT
SUMMARY:Fischlänner Seelued 
DTSTART:20250914T194500
DTEND:20250914T204500
DESCRIPTION:Seit 27 Jahren begeistert der Shantychor "De Fischlänner Seelued" aus Ribnitz-Damgarten mit seinem maritimen Liedgut.
LOCATION:
UID:https://www.fischland-darss-zingst.net/fdz/veranstaltungen/termine/aktuell/fischlaenner-seelued.php?uid=3dc8909004d42bb97492e983eb2fbf04
URL:https://www.fischland-darss-zingst.net/fdz/veranstaltungen/termine/aktuell/fischlaenner-seelued.php
END:VEVENT
BEGIN:VEVENT
SUMMARY:Fischlänner Seelued 
DTSTART:20250915T194500
DTEND:20250915T204500
DESCRIPTION:Seit 27 Jahren begeistert der Shantychor "De Fischlänner Seelued" aus Ribnitz-Damgarten mit seinem maritimen Liedgut.
LOCATION:
UID:https://www.fischland-darss-zingst.net/fdz/veranstaltungen/termine/aktuell/fischlaenner-seelued.php?uid=5ed112a6606887f3a73889886fff6f50
URL:https://www.fischland-darss-zingst.net/fdz/veranstaltungen/termine/aktuell/fischlaenner-seelued.php
END:VEVENT
BEGIN:VEVENT
SUMMARY:Fischlänner Seelued 
DTSTART:20250916T194500
DTEND:20250916T204500
DESCRIPTION:Seit 27 Jahren begeistert der Shantychor "De Fischlänner Seelued" aus Ribnitz-Damgarten mit seinem maritimen Liedgut.
LOCATION:
UID:https://www.fischland-darss-zingst.net/fdz/veranstaltungen/termine/aktuell/fischlaenner-seelued.php?uid=4acad845724d9c86bc2503fde20cc7cb
URL:https://www.fischland-darss-zingst.net/fdz/veranstaltungen/termine/aktuell/fischlaenner-seelued.php
END:VEVENT
BEGIN:VEVENT
SUMMARY:Fischlänner Seelued 
DTSTART:20250917T194500
DTEND:20250917T204500
DESCRIPTION:Seit 27 Jahren begeistert der Shantychor "De Fischlänner Seelued" aus Ribnitz-Damgarten mit seinem maritimen Liedgut.
LOCATION:
UID:https://www.fischland-darss-zingst.net/fdz/veranstaltungen/termine/aktuell/fischlaenner-seelued.php?uid=e1b342d25ab950e26ab1a8eefd7830ba
URL:https://www.fischland-darss-zingst.net/fdz/veranstaltungen/termine/aktuell/fischlaenner-seelued.php
END:VEVENT
BEGIN:VEVENT
SUMMARY:Fischlänner Seelued 
DTSTART:20250918T194500
DTEND:20250918T204500
DESCRIPTION:Seit 27 Jahren begeistert der Shantychor "De Fischlänner Seelued" aus Ribnitz-Damgarten mit seinem maritimen Liedgut.
LOCATION:
UID:https://www.fischland-darss-zingst.net/fdz/veranstaltungen/termine/aktuell/fischlaenner-seelued.php?uid=d148c5674a9ebee23d2462292ab7d0e7
URL:https://www.fischland-darss-zingst.net/fdz/veranstaltungen/termine/aktuell/fischlaenner-seelued.php
END:VEVENT
BEGIN:VEVENT
SUMMARY:Fischlänner Seelued 
DTSTART:20250919T194500
DTEND:20250919T204500
DESCRIPTION:Seit 27 Jahren begeistert der Shantychor "De Fischlänner Seelued" aus Ribnitz-Damgarten mit seinem maritimen Liedgut.
LOCATION:
UID:https://www.fischland-darss-zingst.net/fdz/veranstaltungen/termine/aktuell/fischlaenner-seelued.php?uid=a79f3e1db713fce41dedbd9706f19953
URL:https://www.fischland-darss-zingst.net/fdz/veranstaltungen/termine/aktuell/fischlaenner-seelued.php
END:VEVENT
END:VCALENDAR