BEGIN:VCALENDAR
METHOD:PUBLISH
PRODID:-//Weblication CMS
VERSION:2.0
BEGIN:VEVENT
SUMMARY: Dünensand und Meeresglitzern
DTSTART:20260402T110000
DTEND:20260402T140000
DESCRIPTION:So vielseitig wie die Landschaft, so vielseitig sind auch die Themen der Wanderung auf dem Rundwanderweg Darßer Ort. Angefangen von der Entstehung des Neudarß und der Ostsee mit ihren Besonderheiten, geht es auch um die Lebensräume Schilf und Dünen und um die Überlebenskünstler unter den Tier- und Pflanzenarten. Die Wanderung endet am Leuchtturm Darßer Ort.
LOCATION:
UID:https://www.fischland-darss-zingst.net/fdz/veranstaltungen/termine/aktuell/duenensand-und-meeresglitzern-1.php?uid=3766f69637a62a6ad4bce9be3f01262c
URL:https://www.fischland-darss-zingst.net/fdz/veranstaltungen/termine/aktuell/duenensand-und-meeresglitzern-1.php
END:VEVENT
BEGIN:VEVENT
SUMMARY: Dünensand und Meeresglitzern
DTSTART:20260409T110000
DTEND:20260409T140000
DESCRIPTION:So vielseitig wie die Landschaft, so vielseitig sind auch die Themen der Wanderung auf dem Rundwanderweg Darßer Ort. Angefangen von der Entstehung des Neudarß und der Ostsee mit ihren Besonderheiten, geht es auch um die Lebensräume Schilf und Dünen und um die Überlebenskünstler unter den Tier- und Pflanzenarten. Die Wanderung endet am Leuchtturm Darßer Ort.
LOCATION:
UID:https://www.fischland-darss-zingst.net/fdz/veranstaltungen/termine/aktuell/duenensand-und-meeresglitzern-1.php?uid=1b0ef6d45af7b553e6507b7daf13db77
URL:https://www.fischland-darss-zingst.net/fdz/veranstaltungen/termine/aktuell/duenensand-und-meeresglitzern-1.php
END:VEVENT
END:VCALENDAR