BEGIN:VCALENDAR
METHOD:PUBLISH
PRODID:-//Weblication CMS
VERSION:2.0
BEGIN:VEVENT
SUMMARY:Capstan Shanty-Chor 
DTSTART:20250913T123000
DTEND:20250722T133000
DESCRIPTION:Capstan Shanty-Chor 
LOCATION:
UID:https://www.fischland-darss-zingst.net/fdz/veranstaltungen/termine/aktuell/capstan-shanty-chor.php?uid=6069fc8e3044b06fd5344bfa825604ad
URL:https://www.fischland-darss-zingst.net/fdz/veranstaltungen/termine/aktuell/capstan-shanty-chor.php
END:VEVENT
END:VCALENDAR