BEGIN:VCALENDAR
METHOD:PUBLISH
PRODID:-//Weblication CMS
VERSION:2.0
BEGIN:VEVENT
SUMMARY:Bernsteinsuche für Kinder - Kinderfrühling
DTSTART:20260406T150000
DTEND:20260406T150000
DESCRIPTION:Eine Veranstaltung im Rahmen des Kinderfrühlings Ahrenshoop.
LOCATION:
UID:https://www.fischland-darss-zingst.net/fdz/veranstaltungen/termine/aktuell/bernsteinsuche-fuer-kinder-kinderfruehling.php?uid=689f654ec7946729a04e1e07ceb0f2df
URL:https://www.fischland-darss-zingst.net/fdz/veranstaltungen/termine/aktuell/bernsteinsuche-fuer-kinder-kinderfruehling.php
END:VEVENT
END:VCALENDAR