BEGIN:VCALENDAR
METHOD:PUBLISH
PRODID:-//Weblication CMS
VERSION:2.0
BEGIN:VEVENT
SUMMARY:Ausstellungseröffnung: Max Uhlig – Mit großem Schritt
DTSTART:20260402T190000
DTEND:20260402T190000
DESCRIPTION:Der Dresdner Maler, Zeichner und Grafiker Max Uhlig (*1937) überrascht mit einer faszinierenden neuen Werkgruppe, den „Aquarell-Riss-Collagen“. Hierzu erscheint im Wienand Verlag Anfang März 2026 das Buch „Aquarell-Riss-Collagen“ (ISBN 978-3-86832-851-6) mit einem Essay von Bernhard Maaz. 
LOCATION:
UID:https://www.fischland-darss-zingst.net/fdz/veranstaltungen/termine/aktuell/ausstellungseroeffnung-max-uhlig-mit-grossem-schritt.php?uid=7a9583868f4731aa90370e4aca100ad7
URL:https://www.fischland-darss-zingst.net/fdz/veranstaltungen/termine/aktuell/ausstellungseroeffnung-max-uhlig-mit-grossem-schritt.php
END:VEVENT
END:VCALENDAR