BEGIN:VCALENDAR
METHOD:PUBLISH
PRODID:-//Weblication CMS
VERSION:2.0
BEGIN:VEVENT
SUMMARY:Ausstellungseröffnung: Junge Kunst aus Nordeuropa
DTSTART:20260328T170000
DTEND:20260328T170000
DESCRIPTION:Das Ausstellungsformat gibt Nachwuchskünstler:innen aus Deutschland und dem Ostseeraum eine Plattform. Jedes Jahr präsentieren die besten Absolvent:innen des Caspar-David-Friedrich-Instituts der Universität Greifswald (INSOMNALE Preis) und der Fakultät Gestaltung der Hochschule Wismar ihre Arbeiten im Neuen Kunsthaus Ahrenshoop und erhalten ein einmonatiges Stipendium im Künstlerhaus Lukas. Mit Arbeiten von: Marvin Sch
LOCATION:
UID:https://www.fischland-darss-zingst.net/fdz/veranstaltungen/termine/aktuell/ausstellungseroeffnung-junge-kunst-aus-nordeuropa.php?uid=1c7df4dd0800af9c91a6ce869663384a
URL:https://www.fischland-darss-zingst.net/fdz/veranstaltungen/termine/aktuell/ausstellungseroeffnung-junge-kunst-aus-nordeuropa.php
END:VEVENT
END:VCALENDAR