BEGIN:VCALENDAR
METHOD:PUBLISH
PRODID:-//Weblication CMS
VERSION:2.0
BEGIN:VEVENT
SUMMARY:Ausstellung Elena Tarasenko
DTSTART:20260410T110000
DTEND:20260405T110000
DESCRIPTION:Die Galerie zeigt die 1. Einzelausstellung der 1981 in Riga geborenen Künstlerin
LOCATION:
UID:https://www.fischland-darss-zingst.net/fdz/veranstaltungen/termine/aktuell/ausstellung-elena-tarasenko.php?uid=677f8aaeec964ebecf2c405d96a7910d
URL:https://www.fischland-darss-zingst.net/fdz/veranstaltungen/termine/aktuell/ausstellung-elena-tarasenko.php
END:VEVENT
BEGIN:VEVENT
SUMMARY:Ausstellung Elena Tarasenko
DTSTART:20260411T110000
DTEND:20260405T110000
DESCRIPTION:Die Galerie zeigt die 1. Einzelausstellung der 1981 in Riga geborenen Künstlerin
LOCATION:
UID:https://www.fischland-darss-zingst.net/fdz/veranstaltungen/termine/aktuell/ausstellung-elena-tarasenko.php?uid=298ad527eabfc4158697bdfb37d9cb09
URL:https://www.fischland-darss-zingst.net/fdz/veranstaltungen/termine/aktuell/ausstellung-elena-tarasenko.php
END:VEVENT
BEGIN:VEVENT
SUMMARY:Ausstellung Elena Tarasenko
DTSTART:20260412T110000
DTEND:20260412T110000
DESCRIPTION:Die Galerie zeigt die 1. Einzelausstellung der 1981 in Riga geborenen Künstlerin
LOCATION:
UID:https://www.fischland-darss-zingst.net/fdz/veranstaltungen/termine/aktuell/ausstellung-elena-tarasenko.php?uid=50bafc8f8205e64986a9fcae345d0f6c
URL:https://www.fischland-darss-zingst.net/fdz/veranstaltungen/termine/aktuell/ausstellung-elena-tarasenko.php
END:VEVENT
BEGIN:VEVENT
SUMMARY:Ausstellung Elena Tarasenko
DTSTART:20260417T110000
DTEND:20260412T110000
DESCRIPTION:Die Galerie zeigt die 1. Einzelausstellung der 1981 in Riga geborenen Künstlerin
LOCATION:
UID:https://www.fischland-darss-zingst.net/fdz/veranstaltungen/termine/aktuell/ausstellung-elena-tarasenko.php?uid=b20495dc753856ca100a9fd1628097c6
URL:https://www.fischland-darss-zingst.net/fdz/veranstaltungen/termine/aktuell/ausstellung-elena-tarasenko.php
END:VEVENT
BEGIN:VEVENT
SUMMARY:Ausstellung Elena Tarasenko
DTSTART:20260418T110000
DTEND:20260418T110000
DESCRIPTION:Die Galerie zeigt die 1. Einzelausstellung der 1981 in Riga geborenen Künstlerin
LOCATION:
UID:https://www.fischland-darss-zingst.net/fdz/veranstaltungen/termine/aktuell/ausstellung-elena-tarasenko.php?uid=7a16ee0d5d51aac0d0b3db582a8d64af
URL:https://www.fischland-darss-zingst.net/fdz/veranstaltungen/termine/aktuell/ausstellung-elena-tarasenko.php
END:VEVENT
BEGIN:VEVENT
SUMMARY:Ausstellung Elena Tarasenko
DTSTART:20260419T110000
DTEND:20260419T110000
DESCRIPTION:Die Galerie zeigt die 1. Einzelausstellung der 1981 in Riga geborenen Künstlerin
LOCATION:
UID:https://www.fischland-darss-zingst.net/fdz/veranstaltungen/termine/aktuell/ausstellung-elena-tarasenko.php?uid=9c5db23be468a4dd7b0eab05309b1c75
URL:https://www.fischland-darss-zingst.net/fdz/veranstaltungen/termine/aktuell/ausstellung-elena-tarasenko.php
END:VEVENT
BEGIN:VEVENT
SUMMARY:Ausstellung Elena Tarasenko
DTSTART:20260424T110000
DTEND:20260424T110000
DESCRIPTION:Die Galerie zeigt die 1. Einzelausstellung der 1981 in Riga geborenen Künstlerin
LOCATION:
UID:https://www.fischland-darss-zingst.net/fdz/veranstaltungen/termine/aktuell/ausstellung-elena-tarasenko.php?uid=28e0528db655d347fc9a5afb10562976
URL:https://www.fischland-darss-zingst.net/fdz/veranstaltungen/termine/aktuell/ausstellung-elena-tarasenko.php
END:VEVENT
BEGIN:VEVENT
SUMMARY:Ausstellung Elena Tarasenko
DTSTART:20260425T110000
DTEND:20260425T110000
DESCRIPTION:Die Galerie zeigt die 1. Einzelausstellung der 1981 in Riga geborenen Künstlerin
LOCATION:
UID:https://www.fischland-darss-zingst.net/fdz/veranstaltungen/termine/aktuell/ausstellung-elena-tarasenko.php?uid=3b5720bc9291700fad4abce0e222f64c
URL:https://www.fischland-darss-zingst.net/fdz/veranstaltungen/termine/aktuell/ausstellung-elena-tarasenko.php
END:VEVENT
BEGIN:VEVENT
SUMMARY:Ausstellung Elena Tarasenko
DTSTART:20260426T110000
DTEND:20260426T110000
DESCRIPTION:Die Galerie zeigt die 1. Einzelausstellung der 1981 in Riga geborenen Künstlerin
LOCATION:
UID:https://www.fischland-darss-zingst.net/fdz/veranstaltungen/termine/aktuell/ausstellung-elena-tarasenko.php?uid=fbcb148d1e35605ac385fff3d3b6eb94
URL:https://www.fischland-darss-zingst.net/fdz/veranstaltungen/termine/aktuell/ausstellung-elena-tarasenko.php
END:VEVENT
BEGIN:VEVENT
SUMMARY:Ausstellung Elena Tarasenko
DTSTART:20260501T110000
DTEND:20260501T110000
DESCRIPTION:Die Galerie zeigt die 1. Einzelausstellung der 1981 in Riga geborenen Künstlerin
LOCATION:
UID:https://www.fischland-darss-zingst.net/fdz/veranstaltungen/termine/aktuell/ausstellung-elena-tarasenko.php?uid=fea2bbf61973a1b690b2c49cb0c7c5a9
URL:https://www.fischland-darss-zingst.net/fdz/veranstaltungen/termine/aktuell/ausstellung-elena-tarasenko.php
END:VEVENT
BEGIN:VEVENT
SUMMARY:Ausstellung Elena Tarasenko
DTSTART:20260508T110000
DTEND:20260508T110000
DESCRIPTION:Die Galerie zeigt die 1. Einzelausstellung der 1981 in Riga geborenen Künstlerin
LOCATION:
UID:https://www.fischland-darss-zingst.net/fdz/veranstaltungen/termine/aktuell/ausstellung-elena-tarasenko.php?uid=80f85289d514b85cc2bfc8611aa799b7
URL:https://www.fischland-darss-zingst.net/fdz/veranstaltungen/termine/aktuell/ausstellung-elena-tarasenko.php
END:VEVENT
BEGIN:VEVENT
SUMMARY:Ausstellung Elena Tarasenko
DTSTART:20260515T110000
DTEND:20260515T110000
DESCRIPTION:Die Galerie zeigt die 1. Einzelausstellung der 1981 in Riga geborenen Künstlerin
LOCATION:
UID:https://www.fischland-darss-zingst.net/fdz/veranstaltungen/termine/aktuell/ausstellung-elena-tarasenko.php?uid=8ea40b2b6ada1a767dc2885e24a2fd94
URL:https://www.fischland-darss-zingst.net/fdz/veranstaltungen/termine/aktuell/ausstellung-elena-tarasenko.php
END:VEVENT
BEGIN:VEVENT
SUMMARY:Ausstellung Elena Tarasenko
DTSTART:20260522T110000
DTEND:20260522T110000
DESCRIPTION:Die Galerie zeigt die 1. Einzelausstellung der 1981 in Riga geborenen Künstlerin
LOCATION:
UID:https://www.fischland-darss-zingst.net/fdz/veranstaltungen/termine/aktuell/ausstellung-elena-tarasenko.php?uid=d05d3e2e08102358854cf38ecb71e109
URL:https://www.fischland-darss-zingst.net/fdz/veranstaltungen/termine/aktuell/ausstellung-elena-tarasenko.php
END:VEVENT
BEGIN:VEVENT
SUMMARY:Ausstellung Elena Tarasenko
DTSTART:20260529T110000
DTEND:20260529T110000
DESCRIPTION:Die Galerie zeigt die 1. Einzelausstellung der 1981 in Riga geborenen Künstlerin
LOCATION:
UID:https://www.fischland-darss-zingst.net/fdz/veranstaltungen/termine/aktuell/ausstellung-elena-tarasenko.php?uid=b8dbfb6dd055bf8ad0bbcf2f5fd40ede
URL:https://www.fischland-darss-zingst.net/fdz/veranstaltungen/termine/aktuell/ausstellung-elena-tarasenko.php
END:VEVENT
BEGIN:VEVENT
SUMMARY:Ausstellung Elena Tarasenko
DTSTART:20260502T110000
DTEND:20260502T110000
DESCRIPTION:Die Galerie zeigt die 1. Einzelausstellung der 1981 in Riga geborenen Künstlerin
LOCATION:
UID:https://www.fischland-darss-zingst.net/fdz/veranstaltungen/termine/aktuell/ausstellung-elena-tarasenko.php?uid=1d79d32a3511a1b9748acaf010f1d92b
URL:https://www.fischland-darss-zingst.net/fdz/veranstaltungen/termine/aktuell/ausstellung-elena-tarasenko.php
END:VEVENT
BEGIN:VEVENT
SUMMARY:Ausstellung Elena Tarasenko
DTSTART:20260503T110000
DTEND:20260503T110000
DESCRIPTION:Die Galerie zeigt die 1. Einzelausstellung der 1981 in Riga geborenen Künstlerin
LOCATION:
UID:https://www.fischland-darss-zingst.net/fdz/veranstaltungen/termine/aktuell/ausstellung-elena-tarasenko.php?uid=65d3fc769d3cb4fbe65a7bc4e0c3ca07
URL:https://www.fischland-darss-zingst.net/fdz/veranstaltungen/termine/aktuell/ausstellung-elena-tarasenko.php
END:VEVENT
BEGIN:VEVENT
SUMMARY:Ausstellung Elena Tarasenko
DTSTART:20260504T110000
DTEND:20260504T110000
DESCRIPTION:Die Galerie zeigt die 1. Einzelausstellung der 1981 in Riga geborenen Künstlerin
LOCATION:
UID:https://www.fischland-darss-zingst.net/fdz/veranstaltungen/termine/aktuell/ausstellung-elena-tarasenko.php?uid=624525e19958829f92c5702c9687c01d
URL:https://www.fischland-darss-zingst.net/fdz/veranstaltungen/termine/aktuell/ausstellung-elena-tarasenko.php
END:VEVENT
BEGIN:VEVENT
SUMMARY:Ausstellung Elena Tarasenko
DTSTART:20260509T110000
DTEND:20260509T110000
DESCRIPTION:Die Galerie zeigt die 1. Einzelausstellung der 1981 in Riga geborenen Künstlerin
LOCATION:
UID:https://www.fischland-darss-zingst.net/fdz/veranstaltungen/termine/aktuell/ausstellung-elena-tarasenko.php?uid=ece5a1b8ae59975d8b0715367d9fe2b0
URL:https://www.fischland-darss-zingst.net/fdz/veranstaltungen/termine/aktuell/ausstellung-elena-tarasenko.php
END:VEVENT
BEGIN:VEVENT
SUMMARY:Ausstellung Elena Tarasenko
DTSTART:20260510T110000
DTEND:20260510T110000
DESCRIPTION:Die Galerie zeigt die 1. Einzelausstellung der 1981 in Riga geborenen Künstlerin
LOCATION:
UID:https://www.fischland-darss-zingst.net/fdz/veranstaltungen/termine/aktuell/ausstellung-elena-tarasenko.php?uid=18e887ea11b8bcde199c90e32b62420c
URL:https://www.fischland-darss-zingst.net/fdz/veranstaltungen/termine/aktuell/ausstellung-elena-tarasenko.php
END:VEVENT
BEGIN:VEVENT
SUMMARY:Ausstellung Elena Tarasenko
DTSTART:20260511T110000
DTEND:20260511T110000
DESCRIPTION:Die Galerie zeigt die 1. Einzelausstellung der 1981 in Riga geborenen Künstlerin
LOCATION:
UID:https://www.fischland-darss-zingst.net/fdz/veranstaltungen/termine/aktuell/ausstellung-elena-tarasenko.php?uid=effbc4d8d4d8f99b9146d7e6e1e71833
URL:https://www.fischland-darss-zingst.net/fdz/veranstaltungen/termine/aktuell/ausstellung-elena-tarasenko.php
END:VEVENT
BEGIN:VEVENT
SUMMARY:Ausstellung Elena Tarasenko
DTSTART:20260516T110000
DTEND:20260516T110000
DESCRIPTION:Die Galerie zeigt die 1. Einzelausstellung der 1981 in Riga geborenen Künstlerin
LOCATION:
UID:https://www.fischland-darss-zingst.net/fdz/veranstaltungen/termine/aktuell/ausstellung-elena-tarasenko.php?uid=3072f74e986ecefe200765a9d40fc1db
URL:https://www.fischland-darss-zingst.net/fdz/veranstaltungen/termine/aktuell/ausstellung-elena-tarasenko.php
END:VEVENT
BEGIN:VEVENT
SUMMARY:Ausstellung Elena Tarasenko
DTSTART:20260517T110000
DTEND:20260517T110000
DESCRIPTION:Die Galerie zeigt die 1. Einzelausstellung der 1981 in Riga geborenen Künstlerin
LOCATION:
UID:https://www.fischland-darss-zingst.net/fdz/veranstaltungen/termine/aktuell/ausstellung-elena-tarasenko.php?uid=722e0832828bb7afcdc8f76b894cb814
URL:https://www.fischland-darss-zingst.net/fdz/veranstaltungen/termine/aktuell/ausstellung-elena-tarasenko.php
END:VEVENT
BEGIN:VEVENT
SUMMARY:Ausstellung Elena Tarasenko
DTSTART:20260518T110000
DTEND:20260518T110000
DESCRIPTION:Die Galerie zeigt die 1. Einzelausstellung der 1981 in Riga geborenen Künstlerin
LOCATION:
UID:https://www.fischland-darss-zingst.net/fdz/veranstaltungen/termine/aktuell/ausstellung-elena-tarasenko.php?uid=7195e717801158c80772a5e5ec829583
URL:https://www.fischland-darss-zingst.net/fdz/veranstaltungen/termine/aktuell/ausstellung-elena-tarasenko.php
END:VEVENT
BEGIN:VEVENT
SUMMARY:Ausstellung Elena Tarasenko
DTSTART:20260523T110000
DTEND:20260523T110000
DESCRIPTION:Die Galerie zeigt die 1. Einzelausstellung der 1981 in Riga geborenen Künstlerin
LOCATION:
UID:https://www.fischland-darss-zingst.net/fdz/veranstaltungen/termine/aktuell/ausstellung-elena-tarasenko.php?uid=57a5ca8035f21e199e58bd22b160625a
URL:https://www.fischland-darss-zingst.net/fdz/veranstaltungen/termine/aktuell/ausstellung-elena-tarasenko.php
END:VEVENT
BEGIN:VEVENT
SUMMARY:Ausstellung Elena Tarasenko
DTSTART:20260524T110000
DTEND:20260524T110000
DESCRIPTION:Die Galerie zeigt die 1. Einzelausstellung der 1981 in Riga geborenen Künstlerin
LOCATION:
UID:https://www.fischland-darss-zingst.net/fdz/veranstaltungen/termine/aktuell/ausstellung-elena-tarasenko.php?uid=899db5521b5354ed7a4375a5c471b23a
URL:https://www.fischland-darss-zingst.net/fdz/veranstaltungen/termine/aktuell/ausstellung-elena-tarasenko.php
END:VEVENT
BEGIN:VEVENT
SUMMARY:Ausstellung Elena Tarasenko
DTSTART:20260525T110000
DTEND:20260525T110000
DESCRIPTION:Die Galerie zeigt die 1. Einzelausstellung der 1981 in Riga geborenen Künstlerin
LOCATION:
UID:https://www.fischland-darss-zingst.net/fdz/veranstaltungen/termine/aktuell/ausstellung-elena-tarasenko.php?uid=7bed0e26ddbb92587334b96b510e12de
URL:https://www.fischland-darss-zingst.net/fdz/veranstaltungen/termine/aktuell/ausstellung-elena-tarasenko.php
END:VEVENT
BEGIN:VEVENT
SUMMARY:Ausstellung Elena Tarasenko
DTSTART:20260530T110000
DTEND:20260530T110000
DESCRIPTION:Die Galerie zeigt die 1. Einzelausstellung der 1981 in Riga geborenen Künstlerin
LOCATION:
UID:https://www.fischland-darss-zingst.net/fdz/veranstaltungen/termine/aktuell/ausstellung-elena-tarasenko.php?uid=e295ec08d45a90d9d0918800b12d1615
URL:https://www.fischland-darss-zingst.net/fdz/veranstaltungen/termine/aktuell/ausstellung-elena-tarasenko.php
END:VEVENT
BEGIN:VEVENT
SUMMARY:Ausstellung Elena Tarasenko
DTSTART:20260531T110000
DTEND:20260531T110000
DESCRIPTION:Die Galerie zeigt die 1. Einzelausstellung der 1981 in Riga geborenen Künstlerin
LOCATION:
UID:https://www.fischland-darss-zingst.net/fdz/veranstaltungen/termine/aktuell/ausstellung-elena-tarasenko.php?uid=8e22dc0a36a9f80afa08ee1b728bcabe
URL:https://www.fischland-darss-zingst.net/fdz/veranstaltungen/termine/aktuell/ausstellung-elena-tarasenko.php
END:VEVENT
BEGIN:VEVENT
SUMMARY:Ausstellung Elena Tarasenko
DTSTART:20260601T110000
DTEND:20260601T110000
DESCRIPTION:Die Galerie zeigt die 1. Einzelausstellung der 1981 in Riga geborenen Künstlerin
LOCATION:
UID:https://www.fischland-darss-zingst.net/fdz/veranstaltungen/termine/aktuell/ausstellung-elena-tarasenko.php?uid=2814b46f2ea20db0e1b6907cbe3e5dea
URL:https://www.fischland-darss-zingst.net/fdz/veranstaltungen/termine/aktuell/ausstellung-elena-tarasenko.php
END:VEVENT
END:VCALENDAR