BEGIN:VCALENDAR
METHOD:PUBLISH
PRODID:-//Weblication CMS
VERSION:2.0
BEGIN:VEVENT
SUMMARY: Adventslesung
DTSTART:20251207T190000
DTEND:20251207T203000
DESCRIPTION:Mit Jana Plewa bei Glühwein und Gebäck entzünden wir kleine Lichter in der dunklen Jahreszeit mit heiteren, erhellenden Geschichten und Musik. 
LOCATION:
UID:https://www.fischland-darss-zingst.net/fdz/veranstaltungen/termine/aktuell/adventslesung.php?uid=2e8c3917d65e7277b187f44ad58bf0f3
URL:https://www.fischland-darss-zingst.net/fdz/veranstaltungen/termine/aktuell/adventslesung.php
END:VEVENT
END:VCALENDAR